BEGIN:VCALENDAR
VERSION:2.0
PRODID:-//Sonia Megías - ECPv6.15.20//NONSGML v1.0//EN
CALSCALE:GREGORIAN
METHOD:PUBLISH
X-ORIGINAL-URL:https://soniamegias.es/en/
X-WR-CALDESC:Events for Sonia Megías
REFRESH-INTERVAL;VALUE=DURATION:PT1H
X-Robots-Tag:noindex
X-PUBLISHED-TTL:PT1H
BEGIN:VTIMEZONE
TZID:Europe/Madrid
BEGIN:DAYLIGHT
TZOFFSETFROM:+0100
TZOFFSETTO:+0200
TZNAME:CEST
DTSTART:20230326T010000
END:DAYLIGHT
BEGIN:STANDARD
TZOFFSETFROM:+0200
TZOFFSETTO:+0100
TZNAME:CET
DTSTART:20231029T010000
END:STANDARD
BEGIN:DAYLIGHT
TZOFFSETFROM:+0100
TZOFFSETTO:+0200
TZNAME:CEST
DTSTART:20240331T010000
END:DAYLIGHT
BEGIN:STANDARD
TZOFFSETFROM:+0200
TZOFFSETTO:+0100
TZNAME:CET
DTSTART:20241027T010000
END:STANDARD
BEGIN:DAYLIGHT
TZOFFSETFROM:+0100
TZOFFSETTO:+0200
TZNAME:CEST
DTSTART:20250330T010000
END:DAYLIGHT
BEGIN:STANDARD
TZOFFSETFROM:+0200
TZOFFSETTO:+0100
TZNAME:CET
DTSTART:20251026T010000
END:STANDARD
END:VTIMEZONE
BEGIN:VEVENT
DTSTART;VALUE=DATE:20241016
DTEND;VALUE=DATE:20241129
DTSTAMP:20260425T010228
CREATED:20240806T152040Z
LAST-MODIFIED:20250227T221834Z
UID:13568-1729036800-1732838399@soniamegias.es
SUMMARY:MADRID: 11th Mono+Graphic @ The Musical Library
DESCRIPTION:From October 17th to November 28th\, The Musical Library of Madrid will show an exhibition of my rare scores in its headquarters\, at Centro Cultural Conde Duque. \nThe exhibition will be accompanied by performances by CoroDelantal\, guided visits and other surprises. \nIt will be my 11th Mono+Graphic\, an international project born in 2011.
URL:https://soniamegias.es/en/event/madrid-xi-monographic-en-la-biblioteca-musical/
LOCATION:MADRID: Biblioteca Musical Victor Epinós\, C. del Conde Duque\, 11\, Madrid\, Madrid\, 28015\, España
CATEGORIES:Scores exhibition
ATTACH;FMTTYPE=image/jpeg:https://soniamegias.es/wp-content/uploads/2024/08/photo_2024-10-15-11.42.19.jpeg
END:VEVENT
END:VCALENDAR